BEGIN:VCALENDAR
VERSION:2.0
PRODID:-//ChamberMaster//Event Calendar 2.0//EN
METHOD:PUBLISH
X-PUBLISHED-TTL:P3D
REFRESH-INTERVAL:P3D
CALSCALE:GREGORIAN
BEGIN:VEVENT
DTSTART:20190501T170000Z
DTEND:20190501T210000Z
X-MICROSOFT-CDO-ALLDAYEVENT:FALSE
SUMMARY:Fullerton College Spring 2019 Career Fair
DESCRIPTION:Fullerton College is hosting the Spring 2019 Career Fair. Excellence. Elevated to introduce students to career and internship opportunities available in their field. The event is proudly sponsored by the Strong Workforce Initiative: Entrepreneurship\, Internship and CTE Recruitment.   \n\nBenefits for Employers:\n\n\n	Opportunities to nurture student interest in careers and internships with their company and in their industry. \n	Assisting students in understanding the education and skills they need to secure a career with their companies.\n	Partaking in an event showcasing a range of local companies that are committed to supporting education and future employment for today's students.\n\n\nBenefits for Fullerton College Students:\n\n\n	Learning about careers and internships related to their field of study.\n	Networking with professionals as well as other students and inquire about work  environment\, tips on how to maintain employment\, and other industry relevant information.\n	Understanding skills and education required for careers and internships in various industries and fields.
X-ALT-DESC;FMTTYPE=text/html:<p>Fullerton College is hosting the&nbsp\;Spring 2019 Career Fair. Excellence. Elevated&nbsp\;to introduce students to career and internship opportunities available in their field.&nbsp\;The event is proudly sponsored by the Strong Workforce Initiative: Entrepreneurship\, Internship and CTE Recruitment. &nbsp\;&nbsp\;</p>\n\n<p>Benefits for Employers:</p>\n\n<ul>\n	<li>Opportunities to nurture student interest in careers and internships with their company and in their industry.&nbsp\;</li>\n	<li>Assisting students in understanding the education and skills they need to secure a career with their companies.</li>\n	<li>Partaking in an event showcasing a range of local companies that are committed to supporting education and future employment for today&rsquo\;s students.</li>\n</ul>\n\n<p>Benefits for Fullerton College Students:</p>\n\n<ul>\n	<li>Learning about careers and internships related to their field of study.</li>\n	<li>Networking with professionals as well as other students and inquire about work&nbsp\; environment\, tips on how to maintain employment\, and other industry relevant information.</li>\n	<li>Understanding skills and education required for careers and internships in various industries and fields.</li>\n</ul>\n
LOCATION:Fullerton College Quad 321 E Chapman Ave Fullerton\, CA 92832
UID:e.887.23119
SEQUENCE:3
DTSTAMP:20260422T054159Z
URL:https://business.nocchamber.com/events/details/fullerton-college-spring-2019-career-fair-23119
END:VEVENT

END:VCALENDAR
