BEGIN:VCALENDAR
VERSION:2.0
PRODID:-//ChamberMaster//Event Calendar 2.0//EN
METHOD:PUBLISH
X-PUBLISHED-TTL:P3D
REFRESH-INTERVAL:P3D
CALSCALE:GREGORIAN
BEGIN:VEVENT
DTSTART:20191020T000000Z
DTEND:20191020T040000Z
X-MICROSOFT-CDO-ALLDAYEVENT:FALSE
SUMMARY:Fullerton College President's Gala & Diamond Jubilee
DESCRIPTION:The Fullerton College Foundation presents the Fullerton College President's Gala on Saturday\, October 19\, 2019\, supporting endowed scholarship programs that enable students to achieve their educational goals. Highlighting the evening's fundraising efforts will be a Silent Auction featuring a variety of items followed by a Live Auction opportunity for attendees.\n\n\n\nIn part\, the mission of the College and Foundation is to place an emphasis on preparing students to successfully complete their certificates and programs of study. Many students will transfer to four-year colleges and universities to continue their studies. In addition\, the College advances student learning by developing flexible pathways for students from diverse communities seeking educational and career growth designed to become successful learners\, responsible leaders and engaged community members.\n\n\n\nThis year the Foundation awarded over $285\,000 in scholarships for Fullerton College Students. Proceeds from the event will be directed towards our scholarship programs and will highlight the Foundation's vision of Investing in Education.\n\n\n\nPlease join in for an evening of celebration\, honoring those in the community who have contributed their talent\, time and vision in serving the students.\n\n\n\nHonorees:\n\n\n\nBob Jensen\, President's Award for Outstanding Service in Education\n\n\n\nRufina Perez Gutierrez\, President's Award for Honorable Student Veteran\nPaul Dunlap\, President's Award for Outstanding Service in Philanthropy\n\n\n\nJim Moore\, President's Award for Outstanding Service in Education\n\nSylvia Mendez\, President's Award for Outstanding Leadership
X-ALT-DESC;FMTTYPE=text/html:The Fullerton College Foundation presents the Fullerton College President&#39\;s Gala on Saturday\, October 19\, 2019\, supporting endowed scholarship programs that enable students to achieve their educational goals. Highlighting the evening&#39\;s fundraising efforts will be a Silent Auction featuring a variety of items followed by a Live Auction opportunity for attendees.<br />\n<br />\nIn part\, the mission of the College and Foundation is to place an emphasis on preparing students to successfully complete their certificates and programs of study. Many students will transfer to four-year colleges and universities to continue their studies. In addition\, the College advances student learning by developing flexible pathways for students from diverse communities seeking educational and career growth designed to become successful learners\, responsible leaders and engaged community members.<br />\n<br />\nThis year the Foundation awarded over $285\,000 in scholarships for Fullerton College Students. Proceeds from the event will be directed towards our scholarship programs and will highlight the Foundation&#39\;s vision of Investing in Education.<br />\n<br />\nPlease join in for an evening of celebration\, honoring those in the community who have contributed their talent\, time and vision in serving the students.<br />\n<br />\nHonorees:<br />\n<br />\nBob Jensen\,&nbsp\;President&#39\;s Award for Outstanding Service in Education<br />\n<br />\nRufina Perez Gutierrez\,&nbsp\;President&#39\;s Award for Honorable Student Veteran\n<p>Paul Dunlap\,&nbsp\;President&#39\;s Award for Outstanding Service in Philanthropy<br />\n<br />\nJim Moore\,&nbsp\;President&#39\;s Award for Outstanding Service in Education</p>\n\n<p>Sylvia Mendez\,&nbsp\;President&#39\;s Award for Outstanding Leadership</p>\n
LOCATION:Fullerton College Campus 321 E. Chapman Ave. Fullerton\, CA 92832
UID:e.887.23671
SEQUENCE:3
DTSTAMP:20260421T231025Z
URL:https://business.nocchamber.com/events/details/fullerton-college-president-s-gala-diamond-jubilee-23671
END:VEVENT

END:VCALENDAR
