BEGIN:VCALENDAR
VERSION:2.0
PRODID:-//ChamberMaster//Event Calendar 2.0//EN
METHOD:PUBLISH
X-PUBLISHED-TTL:P3D
REFRESH-INTERVAL:P3D
CALSCALE:GREGORIAN
BEGIN:VEVENT
DTSTART:20180906T010000Z
DTEND:20180906T030000Z
X-MICROSOFT-CDO-ALLDAYEVENT:FALSE
SUMMARY:Fullerton Collaborative Presents Future Profits
DESCRIPTION:Fullerton Collaborative Next Gen Youth Empowerment committee presents Future Profits\n		\n	\n\n\n \nThis education program that helps high school students prepare for their futures by equipping them with life skills and financial knowledge. Through this program\, students learn about fundamental financial paradigms\, life and job skills\, and combat myths about money that can be detrimental to their futures. Late start is accepted as units and lessons are different every week.\n\n\n\nThis programming is brought to you by the following partners of the Fullerton Collaborative: Boys & Girls Club of Fullerton\, OC United\, Solidarity\, CF Dance Academy\, New Life Fullerton\, and Need 4 Bridges.
X-ALT-DESC;FMTTYPE=text/html:<table align="left" cellpadding="0" cellspacing="0" hspace="0" vspace="0">\n	<tbody>\n		<tr>\n			<td align="left" style="padding-top:0in\;padding-right:1.8pt\;padding-bottom:0in\;padding-left:1.8pt\;vertical-align:top\;"><span style="font-family:arial\,sans-serif\;">Fullerton Collaborative Next Gen Youth Empowerment committee presents Future Profits</span></td>\n		</tr>\n	</tbody>\n</table>\n\n<div style="clear:both\;">&nbsp\;</div>\n<span style="font-family:arial\,sans-serif\;">This education program that helps high school students prepare for their futures by equipping them with life skills and financial knowledge. Through this program\, students learn about fundamental financial paradigms\, life and job skills\, and combat myths about money that can be detrimental to their futures. Late start is accepted as units and lessons are different every week.</span><br />\n<br />\n<span style="font-size:12px\;"><span style="color:gray\;"><span style="font-family:helvetica\,sans-serif\;">This programming is brought to you by the following partners of the Fullerton Collaborative: Boys &amp\; Girls Club of Fullerton\, OC United\, Solidarity\, CF Dance Academy\, New Life Fullerton\, and Need 4 Bridges.</span></span></span>
LOCATION:Boys & Girls Club of Fullerton 340 W. Commonwealth Avenue Fullerton\, CA 92832
UID:e.887.22567
SEQUENCE:3
DTSTAMP:20260422T110621Z
URL:https://business.nocchamber.com/events/details/fullerton-collaborative-presents-future-profits-22567
END:VEVENT

END:VCALENDAR
