BEGIN:VCALENDAR
VERSION:2.0
PRODID:-//ChamberMaster//Event Calendar 2.0//EN
METHOD:PUBLISH
X-PUBLISHED-TTL:P3D
REFRESH-INTERVAL:P3D
CALSCALE:GREGORIAN
BEGIN:VEVENT
DTSTART:20200113T223000Z
DTEND:20200113T233000Z
X-MICROSOFT-CDO-ALLDAYEVENT:FALSE
SUMMARY:Fullerton Collaborative General Meeting
DESCRIPTION:Join us at the next Collaborative Meeting at our regular location in the Fullerton Public Library's Community Room. Each month (we are dark in July) we have different topics and spotlight of what is going on in the city. You will also be able to meet and collaborate with other members in the Fullerton Collaborative. \n\n \n\nWe will also report out on our Homelessness\, Education\, Health & Wellness\, and next gen youth empowerment subcommittees.\n\n \n\nOpen to the public and free to attend. Bring a $1 for the opportunity drawing. All attendees can bring brochures\, event flyers\, questions and concerns to share!\n\n\n\nFor questions\, contact Debra Stout\, Psy.D.\, Executive Director at debrastout@fullertoncollaborative.org\n\nwww.fullertoncollaborative.org\n\n657-888-FULL (3855)
X-ALT-DESC;FMTTYPE=text/html:Join us at the next Collaborative Meeting at our regular location in the Fullerton Public Library&rsquo\;s Community Room. Each month (we are dark in July) we have different topics and spotlight of what is going on in the city. You will also be able to meet and collaborate with other members in the Fullerton Collaborative.&nbsp\;<br />\n&nbsp\;<br />\nWe will also report out on our Homelessness\, Education\, Health &amp\; Wellness\, and next gen youth empowerment subcommittees.<br />\n&nbsp\;<br />\nOpen to the public and free to attend. Bring a $1 for the opportunity drawing. All attendees can bring brochures\, event flyers\, questions and concerns to share!<br />\n<br />\nFor questions\, contact Debra Stout\, Psy.D.\, Executive Director at debrastout@fullertoncollaborative.org<br />\nwww.fullertoncollaborative.org<br />\n657-888-FULL (3855)<br />\n&nbsp\;<br />\n&nbsp\;
LOCATION:Fullerton Public Library Community Room 353 W Commonwealth Ave. Fullerton\, CA 92832
UID:e.887.23142
SEQUENCE:3
DTSTAMP:20260421T191310Z
URL:https://business.nocchamber.com/events/details/fullerton-collaborative-general-meeting-01-13-2020-23142
END:VEVENT

END:VCALENDAR
