BEGIN:VCALENDAR
VERSION:2.0
PRODID:-//ChamberMaster//Event Calendar 2.0//EN
METHOD:PUBLISH
X-PUBLISHED-TTL:P3D
REFRESH-INTERVAL:P3D
CALSCALE:GREGORIAN
BEGIN:VEVENT
DTSTART:20200218T180000Z
DTEND:20200218T190000Z
X-MICROSOFT-CDO-ALLDAYEVENT:FALSE
SUMMARY:Fullerton - Be Red Cross Ready
DESCRIPTION:This presentation will teach individuals how to "Be Red Cross Ready" for any emergency big or small by following these three simple steps:\n\n1) Get a kit\n\n2) Make a plan\n\n3) Be informed
X-ALT-DESC;FMTTYPE=text/html:<br />\nThis presentation will teach individuals how to &quot\;Be Red Cross Ready&quot\; for any emergency big or small by following these three simple steps:<br />\n1) Get a kit<br />\n2) Make a plan<br />\n3) Be informed
LOCATION:Fullerton Community Center 340 W.Commonwealth Ave. Fullerton\, CA 92832
UID:e.887.24108
SEQUENCE:3
DTSTAMP:20260421T175931Z
URL:https://business.nocchamber.com/events/details/fullerton-be-red-cross-ready-24108
END:VEVENT

END:VCALENDAR
