BEGIN:VCALENDAR
VERSION:2.0
PRODID:-//ChamberMaster//Event Calendar 2.0//EN
METHOD:PUBLISH
X-PUBLISHED-TTL:P3D
REFRESH-INTERVAL:P3D
CALSCALE:GREGORIAN
BEGIN:VEVENT
DTSTART:20170708T010000Z
DTEND:20170708T050000Z
X-MICROSOFT-CDO-ALLDAYEVENT:FALSE
SUMMARY:Fullerton Art Walk
DESCRIPTION:Kneadle presents an interactive display of hundreds of photos taken in and around Downtown Fullerton. We searched far and wide for the lost and found typographic treasures that help make Fullerton so unique.\n\nSmall bites\, wine\, and beer will be provided.\n\nAll images shot with Hipstamatic\n\n\n\nHosted by @fldwrktogether for Art Walk
X-ALT-DESC;FMTTYPE=text/html:Kneadle presents an interactive display of hundreds of photos taken in and around Downtown Fullerton. We searched far and wide for the lost and found typographic treasures that help make Fullerton so unique.<br />\nSmall bites\, wine\, and beer will be provided.<br />\nAll images shot with <a href="http://hipstamatic.com/camera/" target="_blank">Hipstamatic</a><br />\n<br />\nHosted by @fldwrktogether&nbsp\;for Art Walk
LOCATION:FLDWRK 110 E Wilshire Ave.\, #101 Fullerton\, CA 92832
UID:e.887.16244
SEQUENCE:3
DTSTAMP:20260421T014046Z
URL:https://business.nocchamber.com/events/details/fullerton-art-walk-16244
END:VEVENT

END:VCALENDAR
