BEGIN:VCALENDAR
VERSION:2.0
PRODID:-//ChamberMaster//Event Calendar 2.0//EN
METHOD:PUBLISH
X-PUBLISHED-TTL:P3D
REFRESH-INTERVAL:P3D
CALSCALE:GREGORIAN
BEGIN:VEVENT
DTSTART:20191207T190000Z
DTEND:20191207T203000Z
X-MICROSOFT-CDO-ALLDAYEVENT:FALSE
SUMMARY:Fullerton Arboretum - Wreath Making
DESCRIPTION:Make a holiday wreath using a grapevine wreath adorned with colorful succulents.  \n\n\n\nCost is $40 per person\, including materials.\n\nClass will be taught by Nancy Brisco\, from the Potting Shed in Orange.
X-ALT-DESC;FMTTYPE=text/html:Make a holiday wreath using a grapevine wreath adorned with colorful succulents.&nbsp\;&nbsp\;<br />\n<br />\nCost is $40 per person\, including materials.<br />\nClass will be taught by Nancy Brisco\, from the Potting Shed in Orange.<br />\n&nbsp\;
LOCATION:Fullerton Arboretum 1900 Associated Road Fullerton\, CA 92831
UID:e.887.23836
SEQUENCE:3
DTSTAMP:20260421T214039Z
URL:https://business.nocchamber.com/events/details/fullerton-arboretum-wreath-making-23836
END:VEVENT

END:VCALENDAR
