BEGIN:VCALENDAR
VERSION:2.0
PRODID:-//ChamberMaster//Event Calendar 2.0//EN
METHOD:PUBLISH
X-PUBLISHED-TTL:P3D
REFRESH-INTERVAL:P3D
CALSCALE:GREGORIAN
BEGIN:VEVENT
DTSTART:20190320T010000Z
DTEND:20190320T033000Z
X-MICROSOFT-CDO-ALLDAYEVENT:FALSE
SUMMARY:Fullerton Arboretum - Tuesdays in the Kitchen with Jonathan Dye
DESCRIPTION:Come and check out Fullerton Arboretum's modified culinary program\, featuring two classes per month at an affordable cost and much smaller class size. Join the demonstration-style dinners and enjoy full-course meals made right in front of you. All classes include plated servings from the menu and a recipe packet.\nOn the Menu: Roasted Red Pepper Soup with Garnishes\; Homemade Biscuits with Butter and Serrano Ham\, Homemade Pickles\; and Slated Butter Caramel-Chocolate Mousse.\n\nTime: 6:00-8:30 p.m.\n\nLocation: Bacon Pavilion Kitchen\n\nInstructor: Jonathan Dye
X-ALT-DESC;FMTTYPE=text/html:Come and check out Fullerton Arboretum&#39\;s modified culinary program\, featuring two classes per month at an affordable cost and much smaller class size. Join the demonstration-style dinners and enjoy full-course meals made right in front of you. All classes include plated servings from the menu and a recipe packet.\n<p>On the Menu:&nbsp\;Roasted Red Pepper Soup with Garnishes\; Homemade Biscuits with Butter and Serrano Ham\, Homemade Pickles\; and Slated Butter Caramel-Chocolate Mousse.</p>\n\n<p>Time:&nbsp\;6:00-8:30 p.m.</p>\n\n<p>Location:&nbsp\;Bacon Pavilion Kitchen</p>\n\n<p>Instructor:&nbsp\;Jonathan Dye</p>\n
LOCATION:Bacon Pavilion Kitchen Fullerton Arboretum 1900 Associated Road Fullerton\, CA 92831
UID:e.887.23009
SEQUENCE:3
DTSTAMP:20260422T082939Z
URL:https://business.nocchamber.com/events/details/fullerton-arboretum-tuesdays-in-the-kitchen-with-jonathan-dye-23009
END:VEVENT

END:VCALENDAR
