BEGIN:VCALENDAR
VERSION:2.0
PRODID:-//ChamberMaster//Event Calendar 2.0//EN
METHOD:PUBLISH
X-PUBLISHED-TTL:P3D
REFRESH-INTERVAL:P3D
CALSCALE:GREGORIAN
BEGIN:VEVENT
DTSTART:20191027T203000Z
DTEND:20191027T233000Z
X-MICROSOFT-CDO-ALLDAYEVENT:FALSE
SUMMARY:Fullerton Arboretum Paint Parties
DESCRIPTION:During these Paint Parties\, you will learn how to step-by-step paint the specific painting assigned\, in this case a truck or an owl. You will have a choice to paint on a 16 x 20 in. canvas or a 14 x 18 in. piece of sanded plywood primed with exterior house paint\, ready for painting. Registration fee includes a canvas or wood\, paints\, brushes\, apron\, and step-by-step instructions. Wear comfortable clothing that you would not mind getting paint on them. Paint away in a relaxed and fun setting.
X-ALT-DESC;FMTTYPE=text/html:&nbsp\;During these Paint Parties\, you will learn how to step-by-step paint the specific painting assigned\, in this case a truck or an owl. You will have a choice to paint on a 16 x 20 in. canvas or a 14 x 18 in. piece of sanded plywood primed with exterior house paint\, ready for painting. Registration fee includes a canvas or wood\, paints\, brushes\, apron\, and step-by-step instructions. Wear comfortable clothing that you would not mind getting paint on them. Paint away in a relaxed and fun setting.
LOCATION:Fullerton Arboretum 1900 Associated Rd Fullerton\, CA\, 92831
UID:e.887.23777
SEQUENCE:3
DTSTAMP:20260421T231019Z
URL:https://business.nocchamber.com/events/details/fullerton-arboretum-paint-parties-23777
END:VEVENT

END:VCALENDAR
