BEGIN:VCALENDAR
VERSION:2.0
PRODID:-//ChamberMaster//Event Calendar 2.0//EN
METHOD:PUBLISH
X-PUBLISHED-TTL:P3D
REFRESH-INTERVAL:P3D
CALSCALE:GREGORIAN
BEGIN:VEVENT
DTSTART:20191110T210000Z
DTEND:20191110T230000Z
X-MICROSOFT-CDO-ALLDAYEVENT:FALSE
SUMMARY:Fullerton Arboretum - Nature Photography: The Art of Taking Memorable Photos
DESCRIPTION:Gain professional strategies that produce memorable photos. Learn advanced composition concepts\, told through stories that show how a photo was designed and then taken. See step-by-step processing sequences that show how to enhance good photos or rescue poor photos. Discover how mastery will make your photography more enjoyable\, rewarding\, and satisfying. Learn how to score higher in photo contests.
X-ALT-DESC;FMTTYPE=text/html:Gain professional strategies that produce memorable photos. Learn advanced composition concepts\, told through stories that show how a photo was designed and then taken. See step-by-step processing sequences that show how to enhance good photos or rescue poor photos. Discover how mastery will make your photography more enjoyable\, rewarding\, and satisfying. Learn how to score higher in photo contests.
LOCATION:Bacon Pavilion Classroom Fullerton Arboretum 1900 Associated Rd. Fullerton\, CA\, 92831
UID:e.887.23779
SEQUENCE:3
DTSTAMP:20260421T231331Z
URL:https://business.nocchamber.com/events/details/fullerton-arboretum-nature-photography-the-art-of-taking-memorable-photos-23779
END:VEVENT

END:VCALENDAR
