BEGIN:VCALENDAR
VERSION:2.0
PRODID:-//ChamberMaster//Event Calendar 2.0//EN
METHOD:PUBLISH
X-PUBLISHED-TTL:P3D
REFRESH-INTERVAL:P3D
CALSCALE:GREGORIAN
BEGIN:VEVENT
DTSTART:20191207T213000Z
DTEND:20191207T220000Z
X-MICROSOFT-CDO-ALLDAYEVENT:FALSE
SUMMARY:Fullerton Arboretum - Holiday Succulent Container
DESCRIPTION:At the Fullerton Arboretum\, you can make and take a 4"x4" holiday wooden container filled with an array of succulents. \n\n\n\nCost: $35 per person\, including materials.\n\nClass will be taught by Nancy Brisco\, from The Potting Shed in Orange.
X-ALT-DESC;FMTTYPE=text/html:At the Fullerton Arboretum\, you can make and take a 4&quot\;x4&quot\; holiday wooden container filled with an array of succulents.&nbsp\;<br />\n<br />\nCost: $35&nbsp\;per person\, including materials.<br />\nClass will be taught by Nancy Brisco\, from The Potting Shed in Orange.
LOCATION:Fullerton Arboretum 1900 Associated Road Fullerton\, CA 92831
UID:e.887.23837
SEQUENCE:3
DTSTAMP:20260421T204051Z
URL:https://business.nocchamber.com/events/details/fullerton-arboretum-holiday-succulent-container-23837
END:VEVENT

END:VCALENDAR
