BEGIN:VCALENDAR
VERSION:2.0
PRODID:-//ChamberMaster//Event Calendar 2.0//EN
METHOD:PUBLISH
X-PUBLISHED-TTL:P3D
REFRESH-INTERVAL:P3D
CALSCALE:GREGORIAN
BEGIN:VEVENT
DTSTART:20191106T020000Z
DTEND:20191106T043000Z
X-MICROSOFT-CDO-ALLDAYEVENT:FALSE
SUMMARY:Fullerton Arboretum - Hands-on Cooking From the Garden
DESCRIPTION:The garden is a perfect place to find inspiration for dishes that are seasonal and fresh. Visit the garden and grounds to select fresh ingredients to add to the evening's recipe. This class focuses on seasonal produce\, knife skills\, and kitchen technique.
X-ALT-DESC;FMTTYPE=text/html:The garden is a perfect place to find inspiration for dishes that are seasonal and fresh. Visit the garden and grounds to select fresh ingredients to add to the evening&#39\;s recipe. This class focuses on seasonal produce\, knife skills\, and kitchen technique.
LOCATION:Bacon Pavilion Kitchen Fullerton Arboretum 1900 Associated Rd. Fullerton\, CA\, 92831
UID:e.887.23778
SEQUENCE:3
DTSTAMP:20260421T214538Z
URL:https://business.nocchamber.com/events/details/fullerton-arboretum-hands-on-cooking-from-the-garden-23778
END:VEVENT

END:VCALENDAR
