BEGIN:VCALENDAR
VERSION:2.0
PRODID:-//ChamberMaster//Event Calendar 2.0//EN
METHOD:PUBLISH
X-PUBLISHED-TTL:P3D
REFRESH-INTERVAL:P3D
CALSCALE:GREGORIAN
BEGIN:VEVENT
DTSTART:20191102T170000Z
DTEND:20191102T230000Z
X-MICROSOFT-CDO-ALLDAYEVENT:FALSE
SUMMARY:Fullerton Arboretum - California Native Plant Sale
DESCRIPTION:There will be over 100 varieties of California-native plants grown directly at the Arboretum. Gardening Experts will help you choose the best plants for your garden and teach you how to build a native-habitat garden to attract a butterflies\, bees\, and birds. Plan ahead and view the list of California Native Plants  available for 2019.
X-ALT-DESC;FMTTYPE=text/html:There will be over 100 varieties of California-native plants grown directly at the Arboretum. Gardening Experts will help you choose the best plants for your garden and teach you how to build a native-habitat garden to attract a butterflies\, bees\, and birds.&nbsp\;Plan ahead and view the list of <a href="https://ueestatic.fullerton.edu/static/arbo/pdf/native-sale-plant-list-2019.pdf" target="_blank">California Native Plants </a> available for 2019.
LOCATION:Fullerton Arboretum 1900 Associated Rd. Fullerton\, CA 92831
UID:e.887.23773
SEQUENCE:3
DTSTAMP:20260421T230606Z
URL:https://business.nocchamber.com/events/details/fullerton-arboretum-california-native-plant-sale-23773
END:VEVENT

END:VCALENDAR
