BEGIN:VCALENDAR
VERSION:2.0
PRODID:-//ChamberMaster//Event Calendar 2.0//EN
METHOD:PUBLISH
X-PUBLISHED-TTL:P3D
REFRESH-INTERVAL:P3D
CALSCALE:GREGORIAN
BEGIN:VEVENT
DTSTART:20191207T180000Z
DTEND:20191208T000000Z
X-MICROSOFT-CDO-ALLDAYEVENT:FALSE
SUMMARY:Fullerton Arboretum - Cactus & Succulent Sale
DESCRIPTION:The Arboretum will be hosting a wide variety of vendors selling interesting\, rare and unique specimens.  Proceeds from the sale help support the Arboretum's environmental education programs\, plant conservation and diverse gardens of the Arboretum.\n\n\n\nSale December 7 -8\, 2019\n\nMembers offered admission at 9:00 a.m. on Saturday as well as 10% discount off all plants purchased. \n\nFree overflow parking available in CSUF Lot G
X-ALT-DESC;FMTTYPE=text/html:The Arboretum will be hosting a wide variety of vendors selling interesting\, rare and unique specimens.&nbsp\; Proceeds from the sale help support the Arboretum&#39\;s environmental education programs\, plant conservation and diverse gardens of the Arboretum.<br />\n<br />\nSale December 7 -8\, 2019<br />\nMembers offered admission at 9:00 a.m. on Saturday as well as 10% discount off all plants purchased.&nbsp\;<br />\nFree overflow parking available in CSUF Lot G<br />\n&nbsp\;
LOCATION:Fullerton Arboretum 1900 Associated Road Fullerton\, CA 92831
UID:e.887.23835
SEQUENCE:3
DTSTAMP:20260421T202858Z
URL:https://business.nocchamber.com/events/details/fullerton-arboretum-cactus-succulent-sale-23835
END:VEVENT

END:VCALENDAR
