BEGIN:VCALENDAR
VERSION:2.0
PRODID:-//ChamberMaster//Event Calendar 2.0//EN
METHOD:PUBLISH
X-PUBLISHED-TTL:P3D
REFRESH-INTERVAL:P3D
CALSCALE:GREGORIAN
BEGIN:VEVENT
DTSTART:20191122T020000Z
DTEND:20191122T030000Z
X-MICROSOFT-CDO-ALLDAYEVENT:FALSE
SUMMARY:Fullerton Arboretum - Breathing Peace\, Navigating Through Stress Gracefully
DESCRIPTION:This workshop focuses on mindful breathing practices that are calming and energizing and can even help with stress-related health problems ranging from panic attacks to digestive disorders. "Breathing Peace" is a wonderful resource for anyone who wishes to improve his or her health and vitality through conscious breathing. Take time to experience the master key to health and longevity as we use the breath to navigate throughout troubled times easily.
X-ALT-DESC;FMTTYPE=text/html:This workshop focuses on mindful breathing practices that are calming and energizing and can even help with stress-related health problems ranging from panic attacks to digestive disorders. &quot\;Breathing Peace&quot\; is a wonderful resource for anyone who wishes to improve his or her health and vitality through conscious breathing. Take time to experience the master key to health and longevity as we use the breath to navigate throughout troubled times easily.
LOCATION:Fullerton Arboretum 1900 Associated Rd. Fullerton\, CA\, 92831
UID:e.887.23787
SEQUENCE:3
DTSTAMP:20260421T214231Z
URL:https://business.nocchamber.com/events/details/fullerton-arboretum-breathing-peace-navigating-through-stress-gracefully-23787
END:VEVENT

END:VCALENDAR
