BEGIN:VCALENDAR
VERSION:2.0
PRODID:-//ChamberMaster//Event Calendar 2.0//EN
METHOD:PUBLISH
X-PUBLISHED-TTL:P3D
REFRESH-INTERVAL:P3D
CALSCALE:GREGORIAN
BEGIN:VEVENT
DTSTART:20191120T020000Z
DTEND:20191120T043000Z
X-MICROSOFT-CDO-ALLDAYEVENT:FALSE
SUMMARY:Fullerton Arboretum - 7th Annual Fall & Winter Entertaining Course
DESCRIPTION:Prepare new and classic recipes that apply to entertaining to both the Thanksgiving and Christmas holidays. An Arboretum tradition to get into the holiday spirit.
X-ALT-DESC;FMTTYPE=text/html:Prepare new and classic recipes that apply to entertaining to both the Thanksgiving and Christmas holidays. An Arboretum tradition to get into the holiday spirit.
LOCATION:Bacon Pavilion Kitchen Fullerton Arboretum 1900 Associated Rd. Fullerton\, CA\, 92831
UID:e.887.23786
SEQUENCE:3
DTSTAMP:20260421T214154Z
URL:https://business.nocchamber.com/events/details/fullerton-arboretum-7th-annual-fall-winter-entertaining-course-23786
END:VEVENT

END:VCALENDAR
