BEGIN:VCALENDAR
VERSION:2.0
PRODID:-//ChamberMaster//Event Calendar 2.0//EN
METHOD:PUBLISH
X-PUBLISHED-TTL:P3D
REFRESH-INTERVAL:P3D
CALSCALE:GREGORIAN
BEGIN:VEVENT
DTSTART:20190524T013000Z
DTEND:20190524T033000Z
X-MICROSOFT-CDO-ALLDAYEVENT:FALSE
SUMMARY:Fullerton Anti-Human Trafficking - Found in Fullerton
DESCRIPTION:Join partners of Fullerton to learn and collaborate in the fight against human trafficking in Fullerton. Seats are limited for this free event. RSVP by May 17th.\n\n\n\nThe keynote speaker will share her story about being trafficked in Fullerton\, beginning at age 11\, and later while attending Fullerton High School. A second expert speaker will share a case study of human trafficking through domestic servitude\, that occurred in Fullerton. Fullerton businesses can play key roles in creating change\, even leading the way in making Fullerton a Fair Trade City.\n\n\n\nSo under the umbrella of the Fullerton Collaborative and Fullerton Act\, and the Fullerton Police\, the organized event will be held on May 23\, Thursday night from 6:30 p.m. - 8:30 p.m. at FLDWRK in downtown Fullerton\, to begin this conversation of how to collaborate to address the trafficking that is happening in the city.
X-ALT-DESC;FMTTYPE=text/html:Join partners of Fullerton to learn and collaborate in the fight against human trafficking in Fullerton. Seats are limited for this free event. RSVP by May 17th.<br />\n<br />\nThe keynote speaker will share her story about being trafficked in Fullerton\, beginning at age 11\, and later while attending Fullerton High School. A second expert&nbsp\;speaker will share a case study of human trafficking through domestic servitude\, that occurred in Fullerton.&nbsp\;Fullerton businesses can play key roles in creating change\, even leading the way in making Fullerton a Fair Trade City.<br />\n<br />\nSo under the umbrella of the Fullerton Collaborative and Fullerton Act\, and the Fullerton Police\, the organized event will be held on&nbsp\;May 23\, Thursday night from 6:30 p.m. - 8:30 p.m. at FLDWRK&nbsp\;in downtown Fullerton\, to begin this conversation of how to&nbsp\;collaborate to address the trafficking that is happening in the city.
LOCATION:FLDWRK 110 East Wilshire Avenue Fullerton\, CA 92832
UID:e.887.23302
SEQUENCE:3
DTSTAMP:20260422T054159Z
URL:https://business.nocchamber.com/events/details/fullerton-anti-human-trafficking-found-in-fullerton-23302
END:VEVENT

END:VCALENDAR
