BEGIN:VCALENDAR
VERSION:2.0
PRODID:-//ChamberMaster//Event Calendar 2.0//EN
METHOD:PUBLISH
X-PUBLISHED-TTL:P3D
REFRESH-INTERVAL:P3D
CALSCALE:GREGORIAN
BEGIN:VEVENT
DTSTART:20191117T020000Z
DTEND:20191117T050000Z
X-MICROSOFT-CDO-ALLDAYEVENT:FALSE
SUMMARY:Fullerton - All the Arts for All the Kids Foundation 25th Art Auction
DESCRIPTION:This events brings together local artists\, school faculty and administrators\, community leaders and those with a true passion for art\, all benefiting children in the community.
X-ALT-DESC;FMTTYPE=text/html:This events brings together&nbsp\;local artists\, school faculty and administrators\, community leaders and those with a true passion for art\, all benefiting children in the community.&nbsp\;<br />\n<br />\n&nbsp\;
LOCATION:Downtown Fullerton Plaza 123 E. Wilshire Avenue Fullerton\, CA 92832
UID:e.887.23805
SEQUENCE:3
DTSTAMP:20260421T231300Z
URL:https://business.nocchamber.com/events/details/fullerton-all-the-arts-for-all-the-kids-foundation-25th-art-auction-23805
END:VEVENT

END:VCALENDAR
