BEGIN:VCALENDAR
VERSION:2.0
PRODID:-//ChamberMaster//Event Calendar 2.0//EN
METHOD:PUBLISH
X-PUBLISHED-TTL:P3D
REFRESH-INTERVAL:P3D
CALSCALE:GREGORIAN
BEGIN:VEVENT
DTSTART:20191106T220000Z
DTEND:20191106T230000Z
X-MICROSOFT-CDO-ALLDAYEVENT:FALSE
SUMMARY:Fullerton Accessibility Seminar
DESCRIPTION:John Caparelli\, a Certified Access Specialist (CASp) will provide a free training geared for restaurtant and bar property owners and landlords to learn about common issues related to disabled access.
X-ALT-DESC;FMTTYPE=text/html:John Caparelli\, a Certified Access Specialist (CASp) will provide a free training geared for restaurtant and bar property owners and landlords to learn about common issues related to disabled access.
LOCATION:Fullerton Library Community Room 353 W. Commonwealth Ave. Fullerton\, CA 92832
UID:e.887.23771
SEQUENCE:3
DTSTAMP:20260421T213927Z
URL:https://business.nocchamber.com/events/details/fullerton-accessibility-seminar-23771
END:VEVENT

END:VCALENDAR
