BEGIN:VCALENDAR
VERSION:2.0
PRODID:-//ChamberMaster//Event Calendar 2.0//EN
METHOD:PUBLISH
X-PUBLISHED-TTL:P3D
REFRESH-INTERVAL:P3D
CALSCALE:GREGORIAN
BEGIN:VEVENT
DTSTART:20190211T170000Z
DTEND:20190211T190000Z
X-MICROSOFT-CDO-ALLDAYEVENT:FALSE
SUMMARY:FSB Core Strategies - Stanton Energy Reliability Center Groundbreaking
DESCRIPTION:FSB Core Strategies is hosting a groundbreaking ceremony to mark the future site of the Stanton Energy Reliability Center on Monday\, February 11\, 2019 at 9:00 a.m.
X-ALT-DESC;FMTTYPE=text/html:FSB Core Strategies is hosting a groundbreaking ceremony to mark the future site of the Stanton Energy Reliability Center on Monday\, February 11\, 2019 at 9:00 a.m.
LOCATION:SERC Project Site 10711 Dale Ave. Stanton\, CA 90680
UID:e.887.22978
SEQUENCE:3
DTSTAMP:20260422T103215Z
URL:https://business.nocchamber.com/events/details/fsb-core-strategies-stanton-energy-reliability-center-groundbreaking-22978
END:VEVENT

END:VCALENDAR
