BEGIN:VCALENDAR
VERSION:2.0
PRODID:-//ChamberMaster//Event Calendar 2.0//EN
METHOD:PUBLISH
X-PUBLISHED-TTL:P3D
REFRESH-INTERVAL:P3D
CALSCALE:GREGORIAN
BEGIN:VEVENT
DTSTART:20191001T233000Z
DTEND:20191002T003000Z
X-MICROSOFT-CDO-ALLDAYEVENT:FALSE
SUMMARY:FREE Workshop - The Importance of Video Marketing
DESCRIPTION:Video is fast becoming the preferred way of consuming content online. Host\, Paul Santiago of Boffo Video will discuss why your need video marketing for your business and how to create content to best tell your story.
X-ALT-DESC;FMTTYPE=text/html:<span style="background:white\;"><span style="color:#333333\;"><span style="font-family:arial\,sans-serif\;"><span style="font-size:10.0pt\;">Video is fast becoming the preferred way of consuming content online. Host\, Paul Santiago of <a href="https://www.boffovideo.com/" target="_blank">Boffo Video</a> will discuss why your need video marketing for your business and how to create content to best tell your story.</span></span></span></span><br />\n<br />\n&nbsp\;
LOCATION:Boffo Video Studio 524 W. Commonwealth Ave.\, Suite H Fullerton CA 92832
UID:e.887.23723
SEQUENCE:3
DTSTAMP:20260421T231131Z
URL:https://business.nocchamber.com/events/details/free-workshop-the-importance-of-video-marketing-23723
END:VEVENT

END:VCALENDAR
