BEGIN:VCALENDAR
VERSION:2.0
PRODID:-//ChamberMaster//Event Calendar 2.0//EN
METHOD:PUBLISH
X-PUBLISHED-TTL:P3D
REFRESH-INTERVAL:P3D
CALSCALE:GREGORIAN
BEGIN:VEVENT
DTSTART:20180421T020000Z
DTEND:20180421T040000Z
X-MICROSOFT-CDO-ALLDAYEVENT:FALSE
SUMMARY:Free Event - Movie Night at The Source (Outdoor Movie Series)
DESCRIPTION:It's never too early to start planning for the weekend! Start your weekend off at The Source with our FREE outdoor movie night! This Friday\, we'll be showing "Interstellar" starting at 7PM at our first floor Step Plaza.\n\n\n\nMake it a "dinner & a movie" & check out the movie night specials from some of stores at The Source! CLICK HERE to download & print out the movie night coupons!
X-ALT-DESC;FMTTYPE=text/html:It&#39\;s never too early to start planning for the weekend! Start your weekend off at The Source with our FREE outdoor movie night! This Friday\, we&#39\;ll be showing &quot\;Interstellar&quot\; starting at 7PM at our first floor Step Plaza.<br />\n<br />\nMake it a &quot\;dinner &amp\; a movie&quot\; &amp\; check out&nbsp\;the movie night specials from some of stores at The Source! <a href="https://thesourceoc.us13.list-manage.com/track/click?u=075193b0f355a2c460d0abeb8&amp\;id=5faafb5158&amp\;e=fee7c76faf" target="_blank">CLICK HERE</a> to download &amp\; print out the movie night coupons!
LOCATION:Step Plaza on First Floor The Source OC 6940 Beach Blvd Buena Park\, CA 90621
UID:e.887.21345
SEQUENCE:3
DTSTAMP:20260421T231336Z
URL:https://business.nocchamber.com/events/details/free-event-movie-night-at-the-source-outdoor-movie-series-21345
END:VEVENT

END:VCALENDAR
