BEGIN:VCALENDAR
VERSION:2.0
PRODID:-//ChamberMaster//Event Calendar 2.0//EN
METHOD:PUBLISH
X-PUBLISHED-TTL:P3D
REFRESH-INTERVAL:P3D
CALSCALE:GREGORIAN
BEGIN:VEVENT
DTSTART:20191014T170000Z
DTEND:20191014T183000Z
X-MICROSOFT-CDO-ALLDAYEVENT:FALSE
SUMMARY:FJUHSD State of the District
DESCRIPTION:The State of the District Event will celebrate Fullerton Joint Union High School District's accomplishments and feature how the district is preparing students for success in college and careers.\n\n\n\nCamps tours will be available following the presentations from the superintendent and district administrators.
X-ALT-DESC;FMTTYPE=text/html:The State of the District Event will celebrate Fullerton Joint Union High School District&#39\;s accomplishments and feature how the district is preparing students for success in college and careers.<br />\n<br />\nCamps tours will be available following the presentations from the superintendent and district administrators.
LOCATION:La Habra High School\, Performing Arts Center 801 W. Highlander Avenue La Habra\, CA 90631
UID:e.887.23715
SEQUENCE:3
DTSTAMP:20260422T000959Z
URL:https://business.nocchamber.com/events/details/fjuhsd-state-of-the-district-23715
END:VEVENT

END:VCALENDAR
