BEGIN:VCALENDAR
VERSION:2.0
PRODID:-//ChamberMaster//Event Calendar 2.0//EN
METHOD:PUBLISH
X-PUBLISHED-TTL:P3D
REFRESH-INTERVAL:P3D
CALSCALE:GREGORIAN
BEGIN:VEVENT
DTSTART:20181127T000000Z
DTEND:20181127T010000Z
X-MICROSOFT-CDO-ALLDAYEVENT:FALSE
SUMMARY:FJUHSD - Retirement Reception Honoring Board Members Hathaway and Singer
DESCRIPTION:The Fullerton Joint Union High School District Board of Trustees is hosting a Retirement Reception Honoring Board Members Robert N. Hathaway and Robert A. Singer\, Ph.D.
X-ALT-DESC;FMTTYPE=text/html:The Fullerton Joint Union High School District Board of Trustees is hosting a Retirement Reception Honoring Board Members Robert N. Hathaway and Robert A. Singer\, Ph.D.&nbsp\;
LOCATION:District Education Center\, Board Room 1051 W. Bastanchury Rd. Fullerton\, CA 92833
UID:e.887.22840
SEQUENCE:3
DTSTAMP:20260422T125615Z
URL:https://business.nocchamber.com/events/details/fjuhsd-retirement-reception-honoring-board-members-hathaway-and-singer-22840
END:VEVENT

END:VCALENDAR
