BEGIN:VCALENDAR
VERSION:2.0
PRODID:-//ChamberMaster//Event Calendar 2.0//EN
METHOD:PUBLISH
X-PUBLISHED-TTL:P3D
REFRESH-INTERVAL:P3D
CALSCALE:GREGORIAN
BEGIN:VEVENT
DTSTART:20191016T190000Z
DTEND:20191016T210000Z
X-MICROSOFT-CDO-ALLDAYEVENT:FALSE
SUMMARY:Fast-Track Your Business Program
DESCRIPTION:A two-day program hosted by Orange County SBDC that will cover the following topics:\n\n\n\n	Being an Entrepreneur\n	Creating a Business Plan\n	Financing a Small Business\n	Legal Forms for Organization\n	Licensing and Permits\n\n\n\nDay 1 / Week 1: Wednesday\, October 16\, 2019\n\n\n	Overview of what it takes to start a business\n	 Introduction to resources and reliable sources of information\n\n\n\n\n*Day 2 / Week 2: Wednesday\, October 23\, 2019\n\n\n\nThis hands-on session will facilitate the following:\n\n\n	Creating an Executive Summary\n	Identifying a kick-start funding plan to understand your financial needs\n	Generating a supportive 10-page pitch deck\n\n\n\n\n*laptop required
X-ALT-DESC;FMTTYPE=text/html:<div>\n<p>A two-day program hosted by Orange County SBDC that will cover the following topics:</p>\n</div>\n\n<ul>\n	<li>Being an Entrepreneur</li>\n	<li>Creating a Business Plan</li>\n	<li>Financing a Small Business</li>\n	<li>Legal Forms for Organization</li>\n	<li>Licensing and Permits</li>\n</ul>\n\n<div>\n<p>Day 1 / Week 1: Wednesday\, October 16\, 2019</p>\n\n<ul>\n	<li>Overview of what it takes to start a business</li>\n	<li>&nbsp\;Introduction to resources and reliable sources of information</li>\n</ul>\n</div>\n\n<div>\n<p>*Day 2 / Week 2: Wednesday\, October 23\, 2019</p>\n</div>\n\n<div>\n<p>This hands-on session will facilitate the following:</p>\n\n<ul>\n	<li>Creating an Executive Summary</li>\n	<li>Identifying a kick-start funding plan to understand your financial needs</li>\n	<li>Generating a supportive 10-page pitch deck</li>\n</ul>\n</div>\n\n<div>\n<p>*laptop required</p>\n</div>\n
LOCATION:Digital Media Center 1300 S. Bristol St. Santa Ana\, CA 92704
UID:e.887.23731
SEQUENCE:3
DTSTAMP:20260422T000536Z
URL:https://business.nocchamber.com/events/details/fast-track-your-business-program-23731
END:VEVENT

END:VCALENDAR
