BEGIN:VCALENDAR
VERSION:2.0
PRODID:-//ChamberMaster//Event Calendar 2.0//EN
METHOD:PUBLISH
X-PUBLISHED-TTL:P3D
REFRESH-INTERVAL:P3D
CALSCALE:GREGORIAN
BEGIN:VEVENT
DTSTART:20200402T230000Z
DTEND:20200403T023000Z
X-MICROSOFT-CDO-ALLDAYEVENT:FALSE
SUMMARY:Farmers Market - Produce Only
DESCRIPTION:The Farmers Market at the Downtown Fullerton Plaza is open with produce only on April 2\, 2020 from 4:00 p.m. to 7:30 p.m. Unfortunately\, the Beer & Wine Garden\, Kid's Korner and Live Music will not be possible at this time.
X-ALT-DESC;FMTTYPE=text/html:The Farmers Market at the Downtown Fullerton Plaza is open with produce only on April 2\, 2020 from 4:00 p.m. to 7:30 p.m. Unfortunately\, the Beer &amp\; Wine Garden\, Kid&#39\;s Korner and Live Music will not be possible at this time.&nbsp\;&nbsp\;&nbsp\;&nbsp\;
LOCATION:Downtown Fullerton Plaza 125 E. Wilshire Ave. Fullerton\, CA 92832
UID:e.887.24268
SEQUENCE:3
DTSTAMP:20260421T153535Z
URL:https://business.nocchamber.com/events/details/farmers-market-produce-only-24268
END:VEVENT

END:VCALENDAR
