BEGIN:VCALENDAR
VERSION:2.0
PRODID:-//ChamberMaster//Event Calendar 2.0//EN
METHOD:PUBLISH
X-PUBLISHED-TTL:P3D
REFRESH-INTERVAL:P3D
CALSCALE:GREGORIAN
BEGIN:VEVENT
DTSTART:20190921T180000Z
DTEND:20190922T000000Z
X-MICROSOFT-CDO-ALLDAYEVENT:FALSE
SUMMARY:Fall for a Friend - Pet Adoption Event
DESCRIPTION:Supervisor Doug Chafee is pleased to sponsor a Pet Fair at O.C. Animal Care on Saturday\, September 21st from 11 AM   5 PM. Adoptions fees will be waived on this day (with some exceptions). Orange County residents who choose to adopt a pet at the Pet Fair will save on average of $100-$200 for adoption fees.
X-ALT-DESC;FMTTYPE=text/html:Supervisor Doug Chafee is pleased to sponsor a Pet Fair at O.C. Animal Care on Saturday\, September 21st from 11 AM &ndash\; 5 PM. Adoptions fees will be waived on this day (with some exceptions). Orange County residents who choose to adopt a pet at the Pet Fair will save on average of $100-$200 for adoption fees.&nbsp\;
LOCATION:OC Animal Care 1630 Victory Road Tustin\, CA\, 92782
UID:e.887.23702
SEQUENCE:3
DTSTAMP:20260422T001625Z
URL:https://business.nocchamber.com/events/details/fall-for-a-friend-pet-adoption-event-23702
END:VEVENT

END:VCALENDAR
