BEGIN:VCALENDAR
VERSION:2.0
PRODID:-//ChamberMaster//Event Calendar 2.0//EN
METHOD:PUBLISH
X-PUBLISHED-TTL:P3D
REFRESH-INTERVAL:P3D
CALSCALE:GREGORIAN
BEGIN:VEVENT
DTSTART:20190913T003000Z
DTEND:20190913T023000Z
X-MICROSOFT-CDO-ALLDAYEVENT:FALSE
SUMMARY:Fall Family Arts Night at The Muck
DESCRIPTION:Join the annual Fall Family Arts Night\, as Muckenthaler opens their art studios for your budding artist to get to see our space and meet some of the on-staff artists. Kids of all ages can come and enjoy as they get their hands dirty trying ceramics\, drawing\, and painting along with a multitude of other artistic crafts at this free event.
X-ALT-DESC;FMTTYPE=text/html:<p>Join the annual Fall Family Arts Night\, as Muckenthaler opens their&nbsp\;art studios for your budding artist to get to see our space and meet some of the on-staff artists. Kids of all ages can come and enjoy as they get their hands dirty trying ceramics\, drawing\, and painting along with a multitude of other artistic crafts at this free event.</p>\n
LOCATION:The Muckenthaler Cultural Center 1201 W Malvern Ave Fullerton\, CA 92833
UID:e.887.23638
SEQUENCE:3
DTSTAMP:20260422T013620Z
URL:https://business.nocchamber.com/events/details/fall-family-arts-night-at-the-muck-23638
END:VEVENT

END:VCALENDAR
