BEGIN:VCALENDAR
VERSION:2.0
PRODID:-//ChamberMaster//Event Calendar 2.0//EN
METHOD:PUBLISH
X-PUBLISHED-TTL:P3D
REFRESH-INTERVAL:P3D
CALSCALE:GREGORIAN
BEGIN:VEVENT
DTSTART:20180829T220000Z
DTEND:20180830T000000Z
X-MICROSOFT-CDO-ALLDAYEVENT:FALSE
SUMMARY:Fair Housing Foundation - Tenant Rights Workshop
DESCRIPTION:Fair Housing Foundation is hosting a Fair Housing Foundation Workshop:\n\n	Protection under fair housing laws\n	Tenants rights and responsbiilites \n	How to deal with tenant-landlord disputes\n	Eviction process\n	Security deposits\; repairs\n	Rent increases\; renting at a foreclosed property\n\n\n\nHousing counselor will be present to answer any questions.
X-ALT-DESC;FMTTYPE=text/html:Fair Housing Foundation is hosting a<strong> Fair Housing Foundation Workshop</strong>:\n<ul>\n	<li>Protection under fair housing laws</li>\n	<li>Tenants rights and responsbiilites&nbsp\;</li>\n	<li>How to deal with tenant-landlord disputes</li>\n	<li>Eviction process</li>\n	<li>Security deposits\; repairs</li>\n	<li>Rent increases\; renting at a foreclosed property</li>\n</ul>\n<br />\n<em>Housing counselor will be present to answer any questions.&nbsp\;</em>
LOCATION:Fullerton Library (Community Room) 353 W. Commonwealth Ave. Fullerton\, CA 92832
UID:e.887.22646
SEQUENCE:3
DTSTAMP:20260422T091056Z
URL:https://business.nocchamber.com/events/details/fair-housing-foundation-tenant-rights-workshop-22646
END:VEVENT

END:VCALENDAR
