BEGIN:VCALENDAR
VERSION:2.0
PRODID:-//ChamberMaster//Event Calendar 2.0//EN
METHOD:PUBLISH
X-PUBLISHED-TTL:P3D
REFRESH-INTERVAL:P3D
CALSCALE:GREGORIAN
BEGIN:VEVENT
DTSTART:20170621T230000Z
DTEND:20170622T020000Z
X-MICROSOFT-CDO-ALLDAYEVENT:FALSE
SUMMARY:Exports Essentials for Business
DESCRIPTION:Many companies start exporting when an overseas buyer inquires about their product. This workshop will cover all the essentials of exporting to help save time and prevent companies from making costly mistakes along the way. It will also provide strategies to help increase international sales. The following topics will be covered to provide structure to your international department: Qualifying International Customers & Communication Methods\, Product\, International Price & INCOTERMS\, Methods of Payment\, International Sales Agreements\, Export Compliance Requirements and many more.
X-ALT-DESC;FMTTYPE=text/html:Many companies start exporting when an overseas buyer inquires about their product. This workshop will cover all the essentials of exporting to help save time and prevent companies from making costly mistakes along the way. It will also provide strategies to help increase international sales. The following topics will be covered to provide structure to your international department: Qualifying International Customers &amp\; Communication Methods\, Product\, International Price &amp\; INCOTERMS\, Methods of Payment\, International Sales Agreements\, Export Compliance Requirements and many more.
LOCATION:Garden Grove Community Meeting Center 11300 Stanford Ave\, B Room Garden Grove CA 92840
UID:e.887.16219
SEQUENCE:3
DTSTAMP:20260421T013818Z
URL:https://business.nocchamber.com/events/details/exports-essentials-for-business-16219
END:VEVENT

END:VCALENDAR
