BEGIN:VCALENDAR
VERSION:2.0
PRODID:-//ChamberMaster//Event Calendar 2.0//EN
METHOD:PUBLISH
X-PUBLISHED-TTL:P3D
REFRESH-INTERVAL:P3D
CALSCALE:GREGORIAN
BEGIN:VEVENT
DTSTART:20190627T193000Z
DTEND:20190627T233000Z
X-MICROSOFT-CDO-ALLDAYEVENT:FALSE
SUMMARY:Export University - 10 sessions starting June 27
DESCRIPTION:Trade Connect is the Port of Los Angeles' award-winning export education outreach program\, designed to assist small and midsize businesses that are seeking to expand their markets.\n\n\n\nTrade Connect offers a series of workshops to small and midsize American companies to educate them on the opportunities\, costs and requirements of exporting their goods and services. Trainings range from introductory courses on the basics of commercial transactions\, foreign markets\, financing\, documentation and logistics\, to advanced seminars on international demand for specific products and emerging global consumer markets.\n\n\n\nStarting June 27 through October 31\, a series of 10 workshops will be held at University of Phoenix in La Palma.\n\n\n\nClick here to view the flyer for for information on dates and topics covered.
X-ALT-DESC;FMTTYPE=text/html:Trade Connect is the Port of Los Angeles&rsquo\; award-winning export education outreach program\, designed to assist small and midsize businesses that are seeking to expand their markets.<br />\n<br />\nTrade Connect offers a series of workshops to small and midsize American companies to educate them on the opportunities\, costs and requirements of exporting their goods and services. Trainings range from introductory courses on the basics of commercial transactions\, foreign markets\, financing\, documentation and logistics\, to advanced seminars on international demand for specific products and emerging global consumer markets.<br />\n<br />\nStarting June 27 through October 31\, a series of 10 workshops will be held at University of Phoenix in La Palma.<br />\n<br />\n<a href="https://kentico.portoflosangeles.org/getmedia/8bab7654-9c42-47ca-9432-fcf92273ac28/Trade_Connect_Export_Univ_2019_6_27_201" target="_blank">Click here to view the flyer</a> for for information on dates and topics covered.
LOCATION:University of Phoenix 6 Centerpointe Dr La Palma\, CA 90623
UID:e.887.23417
SEQUENCE:3
DTSTAMP:20260422T041608Z
URL:https://business.nocchamber.com/events/details/export-university-10-sessions-starting-june-27-23417
END:VEVENT

END:VCALENDAR
