BEGIN:VCALENDAR
VERSION:2.0
PRODID:-//ChamberMaster//Event Calendar 2.0//EN
METHOD:PUBLISH
X-PUBLISHED-TTL:P3D
REFRESH-INTERVAL:P3D
CALSCALE:GREGORIAN
BEGIN:VEVENT
DTSTART:20190923T000000Z
DTEND:20190923T010000Z
X-MICROSOFT-CDO-ALLDAYEVENT:FALSE
SUMMARY:Executive Function: The "Command Center" of Our Thoughts\, Actions\, and Words
DESCRIPTION:Dynamic guest speaker\, Dr. Christa Greenfader\, Associate Professor of Child and Adolescent Studies at Cal State Fullerton will discuss the role of executive function in childhood and adulthood. Executive function skills act as the brain's "air traffic controller"\, allowing us to focus our goals\, plan ahead\, and get things done. Dr. Greenfader's current work considers the relationship between language and executive function\, especially in children learning multiple languages.
X-ALT-DESC;FMTTYPE=text/html:Dynamic guest speaker\, Dr. Christa Greenfader\, Associate Professor of Child and Adolescent Studies at Cal State Fullerton will discuss the role of executive function in childhood and adulthood. Executive function skills act as the brain&#39\;s &quot\;air traffic controller&quot\;\, allowing us to focus our goals\, plan ahead\, and get things done. Dr. Greenfader&rsquo\;s current work considers the relationship between language and executive function\, especially in children learning multiple languages.
LOCATION:Exact address will be sent after purchasing tickets. Fullerton\, CA 92835
UID:e.887.23706
SEQUENCE:3
DTSTAMP:20260422T012010Z
URL:https://business.nocchamber.com/events/details/executive-function-the-command-center-of-our-thoughts-actions-and-words-23706
END:VEVENT

END:VCALENDAR
