BEGIN:VCALENDAR
VERSION:2.0
PRODID:-//ChamberMaster//Event Calendar 2.0//EN
METHOD:PUBLISH
X-PUBLISHED-TTL:P3D
REFRESH-INTERVAL:P3D
CALSCALE:GREGORIAN
BEGIN:VEVENT
DTSTART:20200625T170000Z
DTEND:20200625T190000Z
X-MICROSOFT-CDO-ALLDAYEVENT:FALSE
SUMMARY:Eviction Protection Workshop - City of Buena Park
DESCRIPTION:The Fair Housing Foundation community representative will be at the event to answer your questions. \n\nwill be available in English and Spanish
X-ALT-DESC;FMTTYPE=text/html:The Fair Housing Foundation community representative will be at the event to answer your questions.&nbsp\;<br />\nwill be available in English and Spanish&nbsp\;
LOCATION:Thanksgiving Church 6937 Orangethorpe Ave. Buena Park\, CA 90620
UID:e.887.24416
SEQUENCE:3
DTSTAMP:20260421T143322Z
URL:https://business.nocchamber.com/events/details/eviction-protection-workshop-city-of-buena-park-24416
END:VEVENT

END:VCALENDAR
