BEGIN:VCALENDAR
VERSION:2.0
PRODID:-//ChamberMaster//Event Calendar 2.0//EN
METHOD:PUBLISH
X-PUBLISHED-TTL:P3D
REFRESH-INTERVAL:P3D
CALSCALE:GREGORIAN
BEGIN:VEVENT
DTSTART:20170630T000000Z
DTEND:20170630T030000Z
X-MICROSOFT-CDO-ALLDAYEVENT:FALSE
SUMMARY:Entrepreneur Mentor: Dave Kinnear's Thursday Office Hours
DESCRIPTION:Working on a startup? Have a question about what it takes to be an entrepreneur? Developing the next great piece of technology and you need help figuring out how to bring it to market? Dave Kinnear invites you to join him for his office hours as he opens up time to answer these business questions.
X-ALT-DESC;FMTTYPE=text/html:<p data-automation="listing-title">Working on a startup? Have a question about what it takes to be an entrepreneur? Developing the next great piece of technology and you need help figuring out how to bring it to market? Dave Kinnear invites you to join him for his office hours as he opens up time to answer these business&nbsp\;questions.<br />\n<br />\n&nbsp\;</p>\n
LOCATION:CSUF Startup Incubator 120 S Bradford Ave Back of Building Placentia\, CA 92870
UID:e.887.16234
SEQUENCE:3
DTSTAMP:20260421T014957Z
URL:https://business.nocchamber.com/events/details/entrepreneur-mentor-dave-kinnear-s-thursday-office-hours-16234
END:VEVENT

END:VCALENDAR
