BEGIN:VCALENDAR
VERSION:2.0
PRODID:-//ChamberMaster//Event Calendar 2.0//EN
METHOD:PUBLISH
X-PUBLISHED-TTL:P3D
REFRESH-INTERVAL:P3D
CALSCALE:GREGORIAN
BEGIN:VEVENT
DTSTART:20190606T153000Z
DTEND:20190606T220000Z
X-MICROSOFT-CDO-ALLDAYEVENT:FALSE
SUMMARY:Energy Symposium on Hydrogen
DESCRIPTION:Korean American Energy Association Presents\n\nEnergy Symposium on Hydrogen\n\n\n\nKeynote Speakers include:\n\nBill Elrick\, Executive Director\, CAFCP\n\nByongsung Kwak\, President\, KIER
X-ALT-DESC;FMTTYPE=text/html:Korean American Energy Association Presents<br />\nEnergy Symposium on Hydrogen<br />\n<br />\nKeynote Speakers include:<br />\nBill Elrick\, Executive Director\, CAFCP<br />\nByongsung Kwak\, President\, KIER
LOCATION:Holiday Inn Buena Park 7000 Beach Blvd.\, Buena Park
UID:e.887.23391
SEQUENCE:3
DTSTAMP:20260422T041455Z
URL:https://business.nocchamber.com/events/details/energy-symposium-on-hydrogen-23391
END:VEVENT

END:VCALENDAR
