BEGIN:VCALENDAR
VERSION:2.0
PRODID:-//ChamberMaster//Event Calendar 2.0//EN
METHOD:PUBLISH
X-PUBLISHED-TTL:P3D
REFRESH-INTERVAL:P3D
CALSCALE:GREGORIAN
BEGIN:VEVENT
DTSTART:20180926T160000Z
DTEND:20180926T190000Z
X-MICROSOFT-CDO-ALLDAYEVENT:FALSE
SUMMARY:Energy Smart Landscapes Series: Session 3: Public Health: Designing and Maintaining Landscapes that Improve Public Well-being
DESCRIPTION:The professionals caring for commercial\, hospitality\, public and school landscapes will learn the design and maintenance strategies that reduce allergens\, improve air quality\, and increase overall health and feelings of wellbeing. The morning will also include an overview of regional water issues and tour of ERC's landscape garden.
X-ALT-DESC;FMTTYPE=text/html:The professionals caring for commercial\, hospitality\, public and school landscapes will learn the design and maintenance strategies that reduce allergens\, improve air quality\, and increase overall health and feelings of wellbeing. The morning will also include an overview of regional water issues and tour of ERC&rsquo\;s landscape garden.
LOCATION:SoCalGas Energy Resource Center 9240 Firestone Blvd. Downey\, CA 92401
UID:e.887.22500
SEQUENCE:3
DTSTAMP:20260422T152032Z
URL:https://business.nocchamber.com/events/details/energy-smart-landscapes-series-session-3-public-health-designing-and-maintaining-landscapes-that-improve-public-well-being-22500
END:VEVENT

END:VCALENDAR
