BEGIN:VCALENDAR
VERSION:2.0
PRODID:-//ChamberMaster//Event Calendar 2.0//EN
METHOD:PUBLISH
X-PUBLISHED-TTL:P3D
REFRESH-INTERVAL:P3D
CALSCALE:GREGORIAN
BEGIN:VEVENT
DTSTART:20180324T170000Z
DTEND:20180324T200000Z
X-MICROSOFT-CDO-ALLDAYEVENT:FALSE
SUMMARY:Easter Eggcitement and Spring Carnival
DESCRIPTION:Activities include storytime\, crafts\, bounce house\, face painting\, boutique vendors\, photos with the Easter Bunny and much more! Easter egg hunts will be for children 12 and under. Food available for purchase.\n\nThis event is sponsored by the Rotary Club of Placentia\, the Placentia Library Friends Foundation\, and the Placentia Round Table Women's Club with the Placentia Library District.
X-ALT-DESC;FMTTYPE=text/html:<div class="field field-name-body field-type-text-with-summary field-label-hidden" font-size:="" segoe="" style="box-sizing: border-box\; margin: 0px 0px 40px\; font-family: ">\n<div class="field-items" style="box-sizing: border-box\;">\n<div class="field-item even" property="content:encoded" style="box-sizing: border-box\;">\n<p style="box-sizing: border-box\; margin: 0px 0px 10px\;">Activities include storytime\, crafts\, bounce house\, face painting\, boutique vendors\, photos with the Easter Bunny and much more! Easter egg hunts will be for children 12 and under. Food available for purchase.</p>\n\n<p style="box-sizing: border-box\; margin: 0px\;">This event is sponsored by the Rotary Club of Placentia\, the Placentia Library Friends Foundation\, and the Placentia Round Table Women&rsquo\;s Club with the Placentia Library District.</p>\n\n<div>&nbsp\;</div>\n</div>\n</div>\n</div>\n\n<div class="field field-name-field-contact field-type-text field-label-inline clearfix" font-size:="" segoe="" style="box-sizing: border-box\; font-family: ">&nbsp\;</div>\n
LOCATION:Kraermer Memorial Park 201 N. Bradford Ave. Placentia\, CA 92870
UID:e.887.18238
SEQUENCE:3
DTSTAMP:20260421T212519Z
URL:https://business.nocchamber.com/events/details/easter-eggcitement-and-spring-carnival-18238
END:VEVENT

END:VCALENDAR
