BEGIN:VCALENDAR
VERSION:2.0
PRODID:-//ChamberMaster//Event Calendar 2.0//EN
METHOD:PUBLISH
X-PUBLISHED-TTL:P3D
REFRESH-INTERVAL:P3D
CALSCALE:GREGORIAN
BEGIN:VEVENT
DTSTART:20200703T010000Z
DTEND:20200703T043000Z
X-MICROSOFT-CDO-ALLDAYEVENT:FALSE
SUMMARY:Drive-In Concert: Finnagen Blue At The Muck
DESCRIPTION:Siblings Anna Lee and Willie Fleming\, along with their dad\, Bill\, take Americana off the rails. Just when you think you have them figured out as a folk rock trio\, BOOM!\, Here come the trombones!!!!\n\nDrive-in Guidelines:\n\n- Guests are required to wear a mask when leaving their cars to walk to and from the restroom\, or anytime they exit their vehicle for any reason.\n\n- Ticket holders will be asked to display their tickets either on their smart devices/phones\, or printed\, upon entry to be viewed by our staff through your window.\n\n- While restrooms will be available\, guests are encouraged to use a restroom in advance. Restrooms will be sanitized between uses\, which causes a longer wait time.
X-ALT-DESC;FMTTYPE=text/html:<p 24px="" color:="" font-size:="" helvetica="" line-height:="" margin:="" overflow-wrap:="" style="font-family: " white-space:=""><span style="font-size:12px\;"><span style="font-family:arial\;"><span id="cke_bm_108S" style="display: none\;">&nbsp\;</span>Siblings Anna Lee and Willie Fleming\, along with their dad\, Bill\, take Americana off the rails. Just when you think you have them figured out as a folk rock trio\, BOOM!\, Here come the trombones!!!!</span></span></p>\n\n<p 24px="" color:="" font-size:="" helvetica="" line-height:="" margin:="" overflow-wrap:="" style="font-family: " white-space:=""><span style="font-size:12px\;"><span style="font-family:arial\;"><strong style="overflow-wrap: break-word\;">Drive-in Guidelines:</strong></span></span></p>\n\n<p 24px="" color:="" font-size:="" helvetica="" line-height:="" margin:="" overflow-wrap:="" style="font-family: " white-space:=""><span style="font-size:12px\;"><span style="font-family:arial\;">- Guests are <strong style="overflow-wrap: break-word\;">required to wear a mask </strong>when leaving their cars to walk to and from the restroom\, or anytime they exit their vehicle for any reason.</span></span></p>\n\n<p 24px="" color:="" font-size:="" helvetica="" line-height:="" margin:="" overflow-wrap:="" style="font-family: " white-space:=""><span style="font-size:12px\;"><span style="font-family:arial\;">- Ticket holders will be asked to display their tickets either on their smart devices/phones\, or printed\, upon entry to be viewed by our staff through your window.</span></span></p>\n\n<p 0px="" 24px="" color:="" font-size:="" helvetica="" line-height:="" margin:="" overflow-wrap:="" style="font-family: " white-space:=""><span style="font-size:12px\;"><span style="font-family:arial\;">- While restrooms will be available\, guests are encouraged to use a restroom in advance. Restrooms will be sanitized between uses\, which causes a longer wait time.<span id="cke_bm_108E" style="display: none\;">&nbsp\;</span></span></span></p>\n
LOCATION:The Muckenthaler Cultural Center 1201 W Malvern Ave. Fullerton\, CA 92833
UID:e.887.24411
SEQUENCE:3
DTSTAMP:20260421T120351Z
URL:https://business.nocchamber.com/events/details/drive-in-concert-finnagen-blue-at-the-muck-24411
END:VEVENT

END:VCALENDAR
