BEGIN:VCALENDAR
VERSION:2.0
PRODID:-//ChamberMaster//Event Calendar 2.0//EN
METHOD:PUBLISH
X-PUBLISHED-TTL:P3D
REFRESH-INTERVAL:P3D
CALSCALE:GREGORIAN
BEGIN:VEVENT
DTSTART:20180802T230000Z
DTEND:20180803T033000Z
X-MICROSOFT-CDO-ALLDAYEVENT:FALSE
SUMMARY:Dog Days
DESCRIPTION:Bring your dog out for a night of fun at the Fullerton Market! Enjoy entertaining dog contests including loudest bark and fastest eater. A DJ will be playing the top hits for the night. Don't forget t stop by all the dog-related vendor booths. \n\n\n\nThe city will have its own version of television's "Greatest Dog in America" on Sunday\, August 14\, 2018 when the Fullerton Museum Center hosts the annual Dog Days of Summer talent show and competition.\n\nTalented canines will be in the spotlight from 5 to 8 p.m. in the Downtown Plaza when the judges search for the dog with the waggiest tail\, the best kiss and the loudest bark.\n\nOwners may sign their dogs up for competitions the day of the event on Wilshire Avenue between Harbor Boulevard and Pomona Avenue. The competitions are limited to 10 dogs per event.\n\nDog- and pet-related groups and services will also sponsor booths during the evening.\n\nInformation: 714-738-6545
X-ALT-DESC;FMTTYPE=text/html:<p box-sizing:="" color:="" droid="" letter-spacing:="" vertical-align:="">Bring your dog out for a night of fun at the Fullerton Market! Enjoy entertaining dog contests including loudest bark and fastest eater. A DJ will be playing the top hits for the night. Don&#39\;t forget t stop by all the dog-related vendor booths.&nbsp\;<br />\n<br />\nThe city will have its own version of television&rsquo\;s &ldquo\;Greatest Dog in America&rdquo\; on Sunday\, August 14\, 2018&nbsp\;when the Fullerton Museum Center hosts the annual Dog Days of Summer talent show and competition.</p>\n\n<p box-sizing:="" color:="" droid="" letter-spacing:="" vertical-align:="">Talented canines will be in the spotlight from 5 to 8 p.m. in the Downtown Plaza when the judges search for the dog with the waggiest tail\, the best kiss and the loudest bark.</p>\n\n<p box-sizing:="" color:="" droid="" letter-spacing:="" vertical-align:="">Owners may sign their dogs up for competitions the day of the event on Wilshire Avenue between Harbor Boulevard and Pomona Avenue. The competitions are limited to 10 dogs per event.</p>\n\n<p box-sizing:="" color:="" droid="" letter-spacing:="" vertical-align:="">Dog- and pet-related groups and services will also sponsor booths during the evening.</p>\n\n<p box-sizing:="" color:="" droid="" letter-spacing:="" vertical-align:="">Information: 714-738-6545</p>\n
LOCATION:Fullerton Museum Center 301 N Pomona Ave Fullerton\, CA 92832
UID:e.887.21454
SEQUENCE:3
DTSTAMP:20260422T085641Z
URL:https://business.nocchamber.com/events/details/dog-days-21454
END:VEVENT

END:VCALENDAR
