BEGIN:VCALENDAR
VERSION:2.0
PRODID:-//ChamberMaster//Event Calendar 2.0//EN
METHOD:PUBLISH
X-PUBLISHED-TTL:P3D
REFRESH-INTERVAL:P3D
CALSCALE:GREGORIAN
BEGIN:VEVENT
DTSTART:20200624T210000Z
DTEND:20200624T220000Z
X-MICROSOFT-CDO-ALLDAYEVENT:FALSE
SUMMARY:District 4 County of Orange Small Business Grant Relief Program Webinar
DESCRIPTION:The Orange County Fourth District Small Business Grant Relief Program was announced to help its small businesses and non-profits experiencing financial losses resulting from the COVID-19 pandemic. Applicants can apply for up to $10\,000 depending on need based on the new program.\n\n\n\nThis webinar will provide an overview of the grant program\, eligibility\, criteria\, grant selection\, and use of funding.
X-ALT-DESC;FMTTYPE=text/html:The Orange County Fourth District Small Business Grant Relief Program was announced to help its small businesses and non-profits experiencing financial losses resulting from the COVID-19 pandemic. Applicants can apply for up to $10\,000 depending on need based on the new program.<br />\n<br />\nThis webinar will provide an overview of the grant program\, eligibility\, criteria\, grant selection\, and use of funding.
LOCATION:Online
UID:e.887.24432
SEQUENCE:3
DTSTAMP:20260421T132023Z
URL:https://business.nocchamber.com/events/details/district-4-county-of-orange-small-business-grant-relief-program-webinar-24432
END:VEVENT

END:VCALENDAR
