BEGIN:VCALENDAR
VERSION:2.0
PRODID:-//ChamberMaster//Event Calendar 2.0//EN
METHOD:PUBLISH
X-PUBLISHED-TTL:P3D
REFRESH-INTERVAL:P3D
CALSCALE:GREGORIAN
BEGIN:VEVENT
DTSTART;VALUE=DATE:20200708
DTEND;VALUE=DATE:20200709
TRANSP:TRANSPARENT
X-MICROSOFT-CDO-ALLDAYEVENT:TRUE
SUMMARY:Discussion with Export Import Bank Leader
DESCRIPTION:Discussion with Kimberly A. Reed\, President & Chairman\, EXIM \n\n\n\nKimberly A. Reed was sworn in as President and Chairman of the Board of Directors of the Export-Import Bank of the United States (EXIM) on May 9\, 2019.\n\n\n\nShe is the first woman and first West Virginian to lead EXIM\, an independent federal agency that supports American jobs   nearly 1.5 million jobs in all 50 states over the past decade   by facilitating the export of U.S. goods and services.
X-ALT-DESC;FMTTYPE=text/html:Discussion with Kimberly A. Reed\, President &amp\; Chairman\, EXIM&nbsp\;<br />\n<br />\nKimberly A. Reed was sworn in as President and&nbsp\;Chairman of the Board of Directors of the Export-Import&nbsp\;Bank of the United States (EXIM) on May 9\, 2019.<br />\n<br />\nShe is&nbsp\;the first woman and first West Virginian to lead EXIM\, an&nbsp\;independent federal agency that supports American&nbsp\;jobs &ndash\; nearly 1.5 million jobs in all 50 states over the past&nbsp\;decade &ndash\; by facilitating the export of U.S. goods and&nbsp\;services.
LOCATION:Virtual - RSVP Required email: apark@ocbc.org phone: 949-794-7204
UID:e.887.24533
SEQUENCE:3
DTSTAMP:20260421T131412Z
URL:https://business.nocchamber.com/events/details/discussion-with-export-import-bank-leader-24533
END:VEVENT

END:VCALENDAR
