BEGIN:VCALENDAR
VERSION:2.0
PRODID:-//ChamberMaster//Event Calendar 2.0//EN
METHOD:PUBLISH
X-PUBLISHED-TTL:P3D
REFRESH-INTERVAL:P3D
CALSCALE:GREGORIAN
BEGIN:VEVENT
DTSTART:20191103T200000Z
DTEND:20191104T000000Z
X-MICROSOFT-CDO-ALLDAYEVENT:FALSE
SUMMARY:Dia de los Muertos Fiesta at The Muck
DESCRIPTION:Music\, food\, family art activities\, and arts & crafts sale.\n\nFestive activities\, stage performances and special ofrendas (altars) to honor deceased loved ones and to celebrate life a special event for the whole family. Interested in honoring a loved one with an ofrenda? Please call 714-738-6595 or email info@themuck.org.
X-ALT-DESC;FMTTYPE=text/html:<p>Music\, food\, family art activities\, and arts &amp\; crafts sale.</p>\n\n<p>Festive activities\, stage performances and special ofrendas (altars) to honor deceased loved ones and to celebrate life&mdash\;a special event for the whole family.&nbsp\;Interested in honoring a loved one with an ofrenda? Please call 714-738-6595 or email info@themuck.org.</p>\n
LOCATION:The Muckenthaler Cultural Center 1201 W Malvern Ave Fullerton\, CA 92833
UID:e.887.23649
SEQUENCE:3
DTSTAMP:20260419T155230Z
URL:https://business.nocchamber.com/events/details/dia-de-los-muertos-fiesta-at-the-muck-23649
END:VEVENT

END:VCALENDAR
