BEGIN:VCALENDAR
VERSION:2.0
PRODID:-//ChamberMaster//Event Calendar 2.0//EN
METHOD:PUBLISH
X-PUBLISHED-TTL:P3D
REFRESH-INTERVAL:P3D
CALSCALE:GREGORIAN
BEGIN:VEVENT
DTSTART:20180424T010000Z
DTEND:20180424T034500Z
X-MICROSOFT-CDO-ALLDAYEVENT:FALSE
SUMMARY:Demystifying the Commercial Leasing Process
DESCRIPTION:Commercial building owners & their agents each have a strong background in negotiating leases\, which most commercial tenants lack. This course can help equalize the situation by showing you what to do and how to proceed when you find an office\, industrial or retail space to lease. Leasing commercial property is not overly complex\, but it does take knowledge and skill. Whether you are planning to lease a commercial property on your own or use the services of a qualified broker\, this seminar is designed to take you through the steps of the process and by doing so level the playing field. \n\n \n\nHeather Francine\, Vice President of Sperry Commercial in Irvine\, CA. presents this workshop. She specializes in commercial leasing in Orange County as well as northern San Diego County. Heather is passionate about developing and maintaining strong\, client relationships while representing the business owners in her community. Her real estate career began 18 years ago and she continues to enjoy the diversity of the industry. For several years\, Heather was on the development team at Integrity Commercial Brokerage\, charged with the responsibility of strengthening client relationships and networking. Both of these areas have contributed to the exceptional reputation that Heather continues to experience in the brokerage community.
X-ALT-DESC;FMTTYPE=text/html:<p style="margin: 0px 0px 18px\; padding: 0px\; color: rgb(0\, 0\, 144)\; font-family: Arial\, Helvetica\, sans-serif\; font-size: 12px\;"><span style="color:#000000\;"><span style="font-size: 10pt\;" title="">Commercial building owners &amp\; their agents each have a strong background in negotiating leases\, which most commercial tenants lack. This course can help equalize the situation by showing you what to do and how to proceed when you find an office\, industrial or retail space to lease. Leasing commercial property is not overly complex\, but it does take knowledge and skill. Whether you are planning to lease a commercial property on your own or use the services of a qualified broker\, this seminar is designed to take you through the steps of the process and by doing so level the playing field.&nbsp\;</span></span></p>\n\n<div style="margin: 0px\; padding: 0px\; color: rgb(0\, 0\, 144)\; font-family: Arial\, Helvetica\, sans-serif\; font-size: 12px\;">&nbsp\;</div>\n\n<div style="margin: 0px\; padding: 0px\; color: rgb(0\, 0\, 144)\; font-family: Arial\, Helvetica\, sans-serif\; font-size: 12px\;"><span style="color:#000000\;"><span style="font-size: 10pt\;" title=""><strong>Heather Francine\, Vice President of Sperry Commercial</strong>&nbsp\;in Irvine\, CA. presents this workshop. She specializes in commercial leasing in Orange County as well as northern San Diego County. Heather is passionate about developing and maintaining strong\, client relationships while representing the business owners in her community. Her real estate career began 18 years ago and she continues to enjoy the diversity of the industry. For several years\, Heather was on the development team at Integrity Commercial Brokerage\, charged with the responsibility of strengthening client relationships and networking. Both of these areas have contributed to the exceptional reputation that Heather continues to experience in the brokerage community.</span></span></div>\n\n<div style="margin: 0px\; padding: 0px\; color: rgb(0\, 0\, 144)\; font-family: Arial\, Helvetica\, sans-serif\; font-size: 12px\;">&nbsp\;</div>\n\n<div style="margin: 0px\; padding: 0px\; color: rgb(0\, 0\, 144)\; font-family: Arial\, Helvetica\, sans-serif\; font-size: 12px\;">&nbsp\;</div>\n\n<div style="margin: 0px\; padding: 0px\; color: rgb(0\, 0\, 144)\; font-family: Arial\, Helvetica\, sans-serif\; font-size: 12px\;">&nbsp\;</div>\n
LOCATION:Orange Public Library (VM Greenfield) 407 E\, Orange Ave. Orange\, CA 92886
UID:e.887.21337
SEQUENCE:3
DTSTAMP:20260421T230856Z
URL:https://business.nocchamber.com/events/details/demystifying-the-commercial-leasing-process-21337
END:VEVENT

END:VCALENDAR
