BEGIN:VCALENDAR
VERSION:2.0
PRODID:-//ChamberMaster//Event Calendar 2.0//EN
METHOD:PUBLISH
X-PUBLISHED-TTL:P3D
REFRESH-INTERVAL:P3D
CALSCALE:GREGORIAN
BEGIN:VEVENT
DTSTART:20180822T143000Z
DTEND:20180822T163000Z
X-MICROSOFT-CDO-ALLDAYEVENT:FALSE
SUMMARY:Demystifying Business In Japan - August 22
DESCRIPTION:US Commercial Services Presents Demystifying Business In Japan\n\nModerated by Linda Dimario\, Executive VP\, Greater Irvine Chamber\n\nPanelists include Michael Delany\, Chief Development Officer\, World Wide Environmental Products\; Pat Cassidy\, Commercial Officer\, U.S. Department of Commerce\; Mohammad Sadjapour\, CEO\, Militus Cyber Solutions
X-ALT-DESC;FMTTYPE=text/html:US Commercial Services Presents Demystifying Business In Japan<br />\nModerated by Linda Dimario\, Executive VP\, Greater Irvine Chamber<br />\nPanelists include Michael Delany\, Chief Development Officer\, World Wide Environmental Products\; Pat Cassidy\, Commercial Officer\, U.S. Department of Commerce\; Mohammad Sadjapour\, CEO\, Militus Cyber Solutions<br />\n&nbsp\;
LOCATION:36 Executive Park\, #100\, Irvine\, CA
UID:e.887.22636
SEQUENCE:3
DTSTAMP:20260422T091200Z
URL:https://business.nocchamber.com/events/details/demystifying-business-in-japan-august-22-22636
END:VEVENT

END:VCALENDAR
