BEGIN:VCALENDAR
VERSION:2.0
PRODID:-//ChamberMaster//Event Calendar 2.0//EN
METHOD:PUBLISH
X-PUBLISHED-TTL:P3D
REFRESH-INTERVAL:P3D
CALSCALE:GREGORIAN
BEGIN:VEVENT
DTSTART:20190802T023000Z
DTEND:20190802T050000Z
X-MICROSOFT-CDO-ALLDAYEVENT:FALSE
SUMMARY:Darden Sisters at Muckenthaler Cultural Center
DESCRIPTION:These Fullerton natives are no strangers to our audiences\, having performed  to sold-out crowds at The Muck\, the OC Fair\, the Foxx Theatre\, Anaheim House of Blues\, and Angel's Stadium. Don't miss\, Selah (violin)\, Clarah (guitar)\, Havilah (mandolin) and Tabithah (bass)\, in a special performance featuring their original material when they bring their undeniable talent and music back to The Muckenthaler Cultural Center.\n\nHome Town Heroes series presented by Reliance Real Estate Services
X-ALT-DESC;FMTTYPE=text/html:<p>These Fullerton natives are no strangers to our audiences\, having performed&nbsp\; to sold-out crowds at The Muck\, the OC Fair\, the Foxx Theatre\, Anaheim House of Blues\, and Angel&rsquo\;s Stadium. Don&rsquo\;t miss\, Selah (violin)\, Clarah (guitar)\, Havilah (mandolin) and Tabithah (bass)\, in a special performance featuring their original material when they bring their undeniable talent and music back to The Muckenthaler Cultural Center.</p>\n\n<p>Home Town Heroes series presented by Reliance Real Estate Services</p>\n
LOCATION:The Muckenthaler Cultural Center 1201 W Malvern Ave Fullerton\, CA 92833
UID:e.887.23630
SEQUENCE:3
DTSTAMP:20260422T015542Z
URL:https://business.nocchamber.com/events/details/darden-sisters-at-muckenthaler-cultural-center-23630
END:VEVENT

END:VCALENDAR
