BEGIN:VCALENDAR
VERSION:2.0
PRODID:-//ChamberMaster//Event Calendar 2.0//EN
METHOD:PUBLISH
X-PUBLISHED-TTL:P3D
REFRESH-INTERVAL:P3D
CALSCALE:GREGORIAN
BEGIN:VEVENT
DTSTART:20200527T150000Z
DTEND:20200528T000000Z
X-MICROSOFT-CDO-ALLDAYEVENT:FALSE
SUMMARY:Dallas\, TX: Women's Global Trade Empowerment Forum
DESCRIPTION:The Inaugural Women's Global Trade Empowerment Forum explores the opportunity to expand trade in North America and beyond. The forum features industry leaders from a variety of sectors\, such as aerospace and defense\, country outlooks and skills development\, B2B and B2G business development meetings\, access to markets\, networks\, mentors\, and capital.
X-ALT-DESC;FMTTYPE=text/html:The Inaugural Women&#39\;s Global Trade Empowerment Forum explores the opportunity to expand trade in North America and beyond. The forum features industry leaders from a variety of sectors\, such as aerospace and defense\, country outlooks and skills development\, B2B and B2G business development meetings\, access to markets\, networks\, mentors\, and capital.&nbsp\;
LOCATION:Federal Reserve Bank of Dallas 2200 N Pearl St. Dallas\, TX 75201
UID:e.887.24095
SEQUENCE:3
DTSTAMP:20260421T153657Z
URL:https://business.nocchamber.com/events/details/dallas-tx-women-s-global-trade-empowerment-forum-24095
END:VEVENT

END:VCALENDAR
