BEGIN:VCALENDAR
VERSION:2.0
PRODID:-//ChamberMaster//Event Calendar 2.0//EN
METHOD:PUBLISH
X-PUBLISHED-TTL:P3D
REFRESH-INTERVAL:P3D
CALSCALE:GREGORIAN
BEGIN:VEVENT
DTSTART:20191004T023000Z
DTEND:20191004T043000Z
X-MICROSOFT-CDO-ALLDAYEVENT:FALSE
SUMMARY:Dallas and Doll at The Muck
DESCRIPTION:Experience an evening of Motown and Jazz with Doll Knight\, an award winning vocalist from Los Angeles\, CA. Knight can be heard on many TV shows writing and performing songs for shows such as Hemlock Grove\, Parenthood\, and more. Dallas Kruse is an award-winning producer with GRAMMY and Billboard #1 artists under his belt.
X-ALT-DESC;FMTTYPE=text/html:Experience an evening of Motown and Jazz with Doll Knight\, an award winning vocalist from Los Angeles\, CA. Knight can be heard on many TV shows writing and performing songs for shows such as Hemlock Grove\, Parenthood\, and more. Dallas Kruse is an award-winning producer with GRAMMY and Billboard #1 artists under his belt.
LOCATION:The Muckenthaler Cultural Center 1201 W Malvern Ave Fullerton\, CA 92833
UID:e.887.23644
SEQUENCE:3
DTSTAMP:20260421T231019Z
URL:https://business.nocchamber.com/events/details/dallas-and-doll-at-the-muck-23644
END:VEVENT

END:VCALENDAR
