BEGIN:VCALENDAR
VERSION:2.0
PRODID:-//ChamberMaster//Event Calendar 2.0//EN
METHOD:PUBLISH
X-PUBLISHED-TTL:P3D
REFRESH-INTERVAL:P3D
CALSCALE:GREGORIAN
BEGIN:VEVENT
DTSTART:20190208T173000Z
DTEND:20190208T193000Z
X-MICROSOFT-CDO-ALLDAYEVENT:FALSE
SUMMARY:Cypress College - Groundbreaking Ceremony for New Science\, Engineering & Math Building
DESCRIPTION:Cypress College will host a groundbreaking ceremony to mark the beginning of construction on its new Science\, Engineering & Math (SEM) building on Friday\, February 8\, 2019 at 9:30 a.m. The event is free and open to the public\, though reservations are requested. Please go to https://cypresssemgroundbreaking.eventbrite.com to reserve a seat.
X-ALT-DESC;FMTTYPE=text/html:Cypress College will host a groundbreaking ceremony to mark the beginning of construction on its new Science\, Engineering &amp\; Math (SEM) building on Friday\, February 8\, 2019 at 9:30 a.m. The event is free and open to the public\, though reservations are requested. Please go to https://cypresssemgroundbreaking.eventbrite.com to reserve a seat.
LOCATION:Cypress College 9200 Valley View Street Cypress\, CA 90630
UID:e.887.22972
SEQUENCE:3
DTSTAMP:20260422T091056Z
URL:https://business.nocchamber.com/events/details/cypress-college-groundbreaking-ceremony-for-new-science-engineering-math-building-22972
END:VEVENT

END:VCALENDAR
