BEGIN:VCALENDAR
VERSION:2.0
PRODID:-//ChamberMaster//Event Calendar 2.0//EN
METHOD:PUBLISH
X-PUBLISHED-TTL:P3D
REFRESH-INTERVAL:P3D
CALSCALE:GREGORIAN
BEGIN:VEVENT
DTSTART:20191021T153000Z
DTEND:20191021T230000Z
X-MICROSOFT-CDO-ALLDAYEVENT:FALSE
SUMMARY:Cypress College 34th Annual Golf Classic
DESCRIPTION:Join Cypress College Foundation for their 34th annual golf classic at the Los Coyotes Country Club in Buena Park. Proceeds support the work of the Cypress College Foundation which includes funding for student scholarships\, book loans\, emergency assistance\, faculty grants\, endowment development\, and more.
X-ALT-DESC;FMTTYPE=text/html:Join Cypress College Foundation for their 34th annual golf classic at the Los Coyotes Country Club in Buena Park. Proceeds support the work of the Cypress College Foundation which includes funding for student scholarships\, book loans\, emergency assistance\, faculty grants\, endowment development\, and more.&nbsp\;
LOCATION:Los Coyotes Country Club 8888 Los Coyotes Dr. Buena Park\, CA 90621
UID:e.887.23718
SEQUENCE:3
DTSTAMP:20260422T000959Z
URL:https://business.nocchamber.com/events/details/cypress-college-34th-annual-golf-classic-23718
END:VEVENT

END:VCALENDAR
