BEGIN:VCALENDAR
VERSION:2.0
PRODID:-//ChamberMaster//Event Calendar 2.0//EN
METHOD:PUBLISH
X-PUBLISHED-TTL:P3D
REFRESH-INTERVAL:P3D
CALSCALE:GREGORIAN
BEGIN:VEVENT
DTSTART:20200318T160000Z
DTEND:20200318T173000Z
X-MICROSOFT-CDO-ALLDAYEVENT:FALSE
SUMMARY:Culver City: California Competes Tax Credit Presentation
DESCRIPTION:The Governor's Office of Business and Economic Development will be available in the community for a free two-hour workshop to explain how the California Competes Tax Credit program can help your business. This program is available to businesses of any industry\, size\, or location that want to stay and grow in California. Join the 1\,043 California businesses that have been awarded over $1 billion in tax credits since the California Competes Tax Credit program started in 2014.
X-ALT-DESC;FMTTYPE=text/html:The Governor&#39\;s Office of Business and Economic Development will be available in the community for a free two-hour workshop to explain how the&nbsp\;California Competes Tax Credit&nbsp\;program can help your business. This program is available to businesses of any industry\, size\, or location that want to stay and grow in California. Join the 1\,043 California businesses that have been awarded over $1 billion in tax credits since the&nbsp\;California Competes Tax Credit&nbsp\;program started in 2014.<br />\n<br />\n&nbsp\;
LOCATION:Culver City City Hall 9770 Culver Blvd. Patacchia Room Culver City\, CA 90232
UID:e.887.24231
SEQUENCE:3
DTSTAMP:20260421T165427Z
URL:https://business.nocchamber.com/events/details/culver-city-california-competes-tax-credit-presentation-24231
END:VEVENT

END:VCALENDAR
